BEGIN:VCALENDAR
VERSION:2.0
PRODID:-//SHIP - ECPv6.15.20//NONSGML v1.0//EN
CALSCALE:GREGORIAN
METHOD:PUBLISH
X-WR-CALNAME:SHIP
X-ORIGINAL-URL:https://ship.health
X-WR-CALDESC:Events for SHIP
REFRESH-INTERVAL;VALUE=DURATION:PT1H
X-Robots-Tag:noindex
X-PUBLISHED-TTL:PT1H
BEGIN:VTIMEZONE
TZID:Europe/Stockholm
BEGIN:DAYLIGHT
TZOFFSETFROM:+0100
TZOFFSETTO:+0200
TZNAME:CEST
DTSTART:20240331T010000
END:DAYLIGHT
BEGIN:STANDARD
TZOFFSETFROM:+0200
TZOFFSETTO:+0100
TZNAME:CET
DTSTART:20241027T010000
END:STANDARD
BEGIN:DAYLIGHT
TZOFFSETFROM:+0100
TZOFFSETTO:+0200
TZNAME:CEST
DTSTART:20250330T010000
END:DAYLIGHT
BEGIN:STANDARD
TZOFFSETFROM:+0200
TZOFFSETTO:+0100
TZNAME:CET
DTSTART:20251026T010000
END:STANDARD
BEGIN:DAYLIGHT
TZOFFSETFROM:+0100
TZOFFSETTO:+0200
TZNAME:CEST
DTSTART:20260329T010000
END:DAYLIGHT
BEGIN:STANDARD
TZOFFSETFROM:+0200
TZOFFSETTO:+0100
TZNAME:CET
DTSTART:20261025T010000
END:STANDARD
END:VTIMEZONE
BEGIN:VEVENT
DTSTART;TZID=Europe/Stockholm:20251003T083000
DTEND;TZID=Europe/Stockholm:20251003T093000
DTSTAMP:20260421T122015
CREATED:20250924T143127Z
LAST-MODIFIED:20251002T202038Z
UID:244561-1759480200-1759483800@ship.health
SUMMARY:How can your studies\, research\, and work benefit from joining the new platform Sustainable Health in Partnership (SHIP)?
DESCRIPTION:This is an event for researchers\, teachers and students at Örebro University.
URL:https://ship.health/event/how-can-your-studies-research-and-work-benefit-from-joining-the-new-platform-sustainable-health-in-partnership-ship/
LOCATION:Online via Zoom
ATTACH;FMTTYPE=image/jpeg:https://ship.health/wp-content/uploads/2025/09/PSF_16-9.jpg
END:VEVENT
BEGIN:VEVENT
DTSTART;TZID=Europe/Stockholm:20251007T080000
DTEND;TZID=Europe/Stockholm:20251007T090000
DTSTAMP:20260421T122015
CREATED:20250906T110837Z
LAST-MODIFIED:20250908T073148Z
UID:244351-1759824000-1759827600@ship.health
SUMMARY:The One Health Breakfast Club #28
DESCRIPTION:Each Breakfast Club starts with a short inspirational talk\, and then it’s up to you to mingle and take the opportunity to enjoy interesting transdisciplinary discussions and initiate new collaborations.  \nMost welcome\,\n/SLU Future One Health \nSHIP is committed to promoting partner initiatives that align with its mission\, highlighting their work and creating opportunities for wider engagement.
URL:https://ship.health/event/the-one-health-breakfast-club-28/
LOCATION:Alnarp\, Umeå\, Uppsala\, Online
ATTACH;FMTTYPE=image/webp:https://ship.health/wp-content/uploads/2025/09/Breakfast.webp
END:VEVENT
BEGIN:VEVENT
DTSTART;VALUE=DATE:20251013
DTEND;VALUE=DATE:20251025
DTSTAMP:20260421T122015
CREATED:20250408T103144Z
LAST-MODIFIED:20250922T142229Z
UID:242907-1760313600-1761350399@ship.health
SUMMARY:One Health: Concept\, cases and methodology
DESCRIPTION:PhD course offered to students across member universities. Organizers: SLU Future One Health\, the Department of Biomedicine and Veterinary Public Health\, and the Graduate School for Veterinary Medicine and Animal Science at Swedish University for Agricultural Sciences. \nLearn more about the course here and submit your application here \nLast application day for the PhD course is 29 September 2025. \nCourse starts 13 October and ends 24 October 2025.
URL:https://ship.health/event/one-health-concept-cases-and-methodology/
LOCATION:Digital course
ATTACH;FMTTYPE=image/jpeg:https://ship.health/wp-content/uploads/2025/05/AdobeStock_361713848-scaled.jpeg
END:VEVENT
END:VCALENDAR