BEGIN:VCALENDAR
VERSION:2.0
PRODID:-//SHIP - ECPv6.15.20//NONSGML v1.0//EN
CALSCALE:GREGORIAN
METHOD:PUBLISH
X-WR-CALNAME:SHIP
X-ORIGINAL-URL:https://ship.health
X-WR-CALDESC:Events for SHIP
REFRESH-INTERVAL;VALUE=DURATION:PT1H
X-Robots-Tag:noindex
X-PUBLISHED-TTL:PT1H
BEGIN:VTIMEZONE
TZID:Europe/Stockholm
BEGIN:DAYLIGHT
TZOFFSETFROM:+0100
TZOFFSETTO:+0200
TZNAME:CEST
DTSTART:20240331T010000
END:DAYLIGHT
BEGIN:STANDARD
TZOFFSETFROM:+0200
TZOFFSETTO:+0100
TZNAME:CET
DTSTART:20241027T010000
END:STANDARD
BEGIN:DAYLIGHT
TZOFFSETFROM:+0100
TZOFFSETTO:+0200
TZNAME:CEST
DTSTART:20250330T010000
END:DAYLIGHT
BEGIN:STANDARD
TZOFFSETFROM:+0200
TZOFFSETTO:+0100
TZNAME:CET
DTSTART:20251026T010000
END:STANDARD
BEGIN:DAYLIGHT
TZOFFSETFROM:+0100
TZOFFSETTO:+0200
TZNAME:CEST
DTSTART:20260329T010000
END:DAYLIGHT
BEGIN:STANDARD
TZOFFSETFROM:+0200
TZOFFSETTO:+0100
TZNAME:CET
DTSTART:20261025T010000
END:STANDARD
END:VTIMEZONE
BEGIN:VEVENT
DTSTART;TZID=Europe/Stockholm:20250904T090000
DTEND;TZID=Europe/Stockholm:20250904T103000
DTSTAMP:20260421T135619
CREATED:20250811T160928Z
LAST-MODIFIED:20250901T091529Z
UID:244282-1756976400-1756981800@ship.health
SUMMARY:The Swedish Global Mental Health and Psychosocial Support Network Meeting
DESCRIPTION:Agenda MHPSS meeting: \nUpdates and news:\n\nNew co-faciliator from Save the Children\nLooking for a new member of the Nordic Steering Committee to replace Rami Dirawi – together with Peter Brune\, update by Peter Brune\n\nConferences and events:\n\nBold Ideas for Brighter Futures: 18-20 May 2026\, Cape Town\, update by Jill Åhs\nUN general assembly\, high level meeting on NCDs and mental health\, New York 25 of September. Hybrid side event at UNGA Monday 22nd Sept\, update by Marie Dahl\n\nOslo MHPSS Conference Oslo\, 4-5 June 2026 + Pre-event. Update by Maria Modigh/Marie \nOslo MHPSS Conference Pledges Working Group\, update by Marie Dahl\nRound table updates from network members\, max 2 minutes/pers\nNext MHPSS meeting: preliminary December 4th \nThe meeting will be online. Interested in joining? Read more and contact the network leads here
URL:https://ship.health/event/the-swedish-global-mental-health-and-psychosocial-support-network-meeting-2/
LOCATION:Online via Teams
ATTACH;FMTTYPE=image/jpeg:https://ship.health/wp-content/uploads/2025/05/MHPSS_16-9.jpg
END:VEVENT
BEGIN:VEVENT
DTSTART;TZID=Europe/Stockholm:20250922T130000
DTEND;TZID=Europe/Stockholm:20250922T143000
DTSTAMP:20260421T135619
CREATED:20250906T102957Z
LAST-MODIFIED:20250906T111712Z
UID:244338-1758546000-1758551400@ship.health
SUMMARY:What is a Sustainable Arctic?
DESCRIPTION:A panel session where researchers from diverse fields share and explore knowledge and insights on sustainability in the Artic environment. \nSHIP is committed to promoting partner initiatives that align with its mission\, highlighting their work and creating opportunities for wider engagement.
URL:https://ship.health/event/what-is-a-sustainable-arctic/
LOCATION:Rotundan\, Umeå University\, and online
ATTACH;FMTTYPE=image/webp:https://ship.health/wp-content/uploads/2025/09/sust_arctic.webp
END:VEVENT
BEGIN:VEVENT
DTSTART;TZID=Europe/Stockholm:20250923T103000
DTEND;TZID=Europe/Stockholm:20250923T120000
DTSTAMP:20260421T135619
CREATED:20250906T103310Z
LAST-MODIFIED:20250906T103548Z
UID:244343-1758623400-1758628800@ship.health
SUMMARY:A Sustainably Changing Arctic? – Indigenous Perspectives
DESCRIPTION:A panel session where the panel explores sustainability in the Arctic through the lens of Indigenous knowledge and experience. \nSHIP is committed to promoting partner initiatives that align with its mission\, highlighting their work and creating opportunities for wider engagement.
URL:https://ship.health/event/a-sustainably-changing-arctic-indigenous-perspectives/
LOCATION:Rotundan\, Umeå University\, and online
ATTACH;FMTTYPE=image/webp:https://ship.health/wp-content/uploads/2025/09/sust_arctic.webp
END:VEVENT
BEGIN:VEVENT
DTSTART;TZID=Europe/Stockholm:20250925T120000
DTEND;TZID=Europe/Stockholm:20250925T120000
DTSTAMP:20260421T135619
CREATED:20250906T104117Z
LAST-MODIFIED:20250906T111629Z
UID:244348-1758801600-1758801600@ship.health
SUMMARY:Reporting complexity and uncertainty around Antartic ice sheet melt
DESCRIPTION:During this UTRI Transformation Talk James Painter will dive into the complexity of climate science communication and mainstream media \nLearn more about UTRI: https://www.umu.se/umea-transformation-research-initiative/ \nSHIP is committed to promoting partner initiatives that align with its mission\, highlighting their work and creating opportunities for wider engagement.
URL:https://ship.health/event/reporting-complexity-and-uncertainty-around-antartic-ice-sheet-melt/
LOCATION:Umeå University (Sirius and Galaxen)\, and online
ATTACH;FMTTYPE=image/png:https://ship.health/wp-content/uploads/2025/04/transformation-talk.png
END:VEVENT
BEGIN:VEVENT
DTSTART;TZID=Europe/Stockholm:20250929T130000
DTEND;TZID=Europe/Stockholm:20250929T143000
DTSTAMP:20260421T135619
CREATED:20250922T175336Z
LAST-MODIFIED:20250922T175336Z
UID:244554-1759150800-1759156200@ship.health
SUMMARY:The state of health policy and systems research: priorities\, methods and impact
DESCRIPTION:
URL:https://ship.health/event/the-state-of-health-policy-and-systems-research-priorities-methods-and-impact/
LOCATION:Webinar
ATTACH;FMTTYPE=image/jpeg:https://ship.health/wp-content/uploads/2025/09/Aliance-for-HPSR_Logo.jpeg
END:VEVENT
BEGIN:VEVENT
DTSTART;TZID=Europe/Stockholm:20250929T140000
DTEND;TZID=Europe/Stockholm:20250929T153000
DTSTAMP:20260421T135619
CREATED:20250906T084654Z
LAST-MODIFIED:20250929T123434Z
UID:244331-1759154400-1759159800@ship.health
SUMMARY:Goal conflicts and potential synergies in urban development
DESCRIPTION:SHIP is committed to promoting initiatives that align with its mission. \nGlobeLife seminar 29 Sept 2025 information flyer \nZoom meeting link here
URL:https://ship.health/event/goal-conflicts-and-potential-synergies-in-urban-development/
LOCATION:Online via Zoom
ATTACH;FMTTYPE=image/webp:https://ship.health/wp-content/uploads/2025/09/GlobeLife_16-9.webp
END:VEVENT
END:VCALENDAR