BEGIN:VCALENDAR
VERSION:2.0
PRODID:-//SHIP - ECPv6.15.20//NONSGML v1.0//EN
CALSCALE:GREGORIAN
METHOD:PUBLISH
X-WR-CALNAME:SHIP
X-ORIGINAL-URL:https://ship.health
X-WR-CALDESC:Events for SHIP
REFRESH-INTERVAL;VALUE=DURATION:PT1H
X-Robots-Tag:noindex
X-PUBLISHED-TTL:PT1H
BEGIN:VTIMEZONE
TZID:Europe/Stockholm
BEGIN:DAYLIGHT
TZOFFSETFROM:+0100
TZOFFSETTO:+0200
TZNAME:CEST
DTSTART:20240331T010000
END:DAYLIGHT
BEGIN:STANDARD
TZOFFSETFROM:+0200
TZOFFSETTO:+0100
TZNAME:CET
DTSTART:20241027T010000
END:STANDARD
BEGIN:DAYLIGHT
TZOFFSETFROM:+0100
TZOFFSETTO:+0200
TZNAME:CEST
DTSTART:20250330T010000
END:DAYLIGHT
BEGIN:STANDARD
TZOFFSETFROM:+0200
TZOFFSETTO:+0100
TZNAME:CET
DTSTART:20251026T010000
END:STANDARD
BEGIN:DAYLIGHT
TZOFFSETFROM:+0100
TZOFFSETTO:+0200
TZNAME:CEST
DTSTART:20260329T010000
END:DAYLIGHT
BEGIN:STANDARD
TZOFFSETFROM:+0200
TZOFFSETTO:+0100
TZNAME:CET
DTSTART:20261025T010000
END:STANDARD
END:VTIMEZONE
BEGIN:VEVENT
DTSTART;TZID=Europe/Stockholm:20250605T090000
DTEND;TZID=Europe/Stockholm:20250605T103000
DTSTAMP:20260421T191138
CREATED:20250515T150520Z
LAST-MODIFIED:20250515T150637Z
UID:244188-1749114000-1749119400@ship.health
SUMMARY:The Swedish Global Mental Health and Psychosocial Support Network Meeting
DESCRIPTION:Agenda: \n09:00-09:15     Updates and News (input from all) \n09:15-09:30     Conferences/events (input from all) \n09:30-10:15     Erica Mattelin. PhD and clinical psychologist invested in global mental health at Rädda Barnen / Save the Children on Task Sharing – a good way to scale up mental health care and psychosocial support in fragile and humanitarian settings? \n10:15-10:25     Results from the survey to members of the network \n10:25-10:30     Next upcoming meeting – what needs to happen before then? \nThe meeting will be online. Interested in joining? \nRead more and contact the network leads here
URL:https://ship.health/event/the-swedish-global-mental-health-and-psychosocial-support-network-meeting/
LOCATION:Online via Zoom
ATTACH;FMTTYPE=image/jpeg:https://ship.health/wp-content/uploads/2025/05/MHPSS_16-9.jpg
END:VEVENT
BEGIN:VEVENT
DTSTART;VALUE=DATE:20250617
DTEND;VALUE=DATE:20250619
DTSTAMP:20260421T191138
CREATED:20250611T090115Z
LAST-MODIFIED:20250611T090115Z
UID:244250-1750118400-1750291199@ship.health
SUMMARY:Policy and Action for Sustainable Health
DESCRIPTION:Postgraduate forum 2025\, Indonesia 17–18 June \nThe Forum is an annual event focused on health systems and policy\, now in its 18th year. It is a collaborative initiative between Malaysia\, Indonesia\, and Thailand. This year\, Maria Nilsson\, Scientific Lead at SHIP\, will deliver a keynote presentation online\, introducing SHIP – Sustainable Health in Partnership”.
URL:https://ship.health/event/policy-and-action-for-sustainable-health/
ATTACH;FMTTYPE=image/png:https://ship.health/wp-content/uploads/2025/06/eventlogo250611.png
END:VEVENT
END:VCALENDAR